View In:
ArcGIS JavaScript
ArcGIS Online Map Viewer
ArcGIS Earth
Service Description: Aerials/MDS_Aerials_2001_SP_HARN_WKID2914
Name: Aerials/MDS_Aerials_2001_SP_HARN_WKID2914
Description:
Single Fused Map Cache: false
Extent:
XMin: 4268369.0944881905
YMin: 234927.65748032054
XMax: 4305745.078740153
YMax: 272500.4921259838
Spatial Reference: 2914
(2914)
Initial Extent:
XMin: 4268369.0944881905
YMin: 234927.65748032054
XMax: 4305745.078740153
YMax: 272500.4921259838
Spatial Reference: 2914
(2914)
Full Extent:
XMin: 4268369.0944881905
YMin: 234927.65748032054
XMax: 4305745.078740153
YMax: 272500.4921259838
Spatial Reference: 2914
(2914)
Pixel Size X: 0.4921259842518957
Pixel Size Y: 0.49212598425188964
Band Count: 3
Pixel Type: U8
RasterFunction Infos: {"rasterFunctionInfos": [{
"help": "",
"name": "None",
"description": "Make a Raster or Raster Dataset into a Function Raster Dataset."
}]}
Mensuration Capabilities: NONE
Inspection Capabilities:
Has Histograms: false
Has Colormap: false
Has Multi Dimensions : false
Rendering Rule:
Min Scale: 0
Max Scale: 0
Copyright Text:
Service Data Type: esriImageServiceDataTypeRGB
Min Values: N/A
Max Values: N/A
Mean Values: N/A
Standard Deviation Values: N/A
Object ID Field: OBJECTID
Fields:
-
OBJECTID
(
alias: OBJECTID, type: esriFieldTypeOID
)
-
Shape
(
alias: Shape, type: esriFieldTypeGeometry
)
-
Name
(
length: 50, alias: Name, type: esriFieldTypeString
)
-
MinPS
(
alias: MinPS, type: esriFieldTypeDouble
)
-
MaxPS
(
alias: MaxPS, type: esriFieldTypeDouble
)
-
LowPS
(
alias: LowPS, type: esriFieldTypeDouble
)
-
HighPS
(
alias: HighPS, type: esriFieldTypeDouble
)
-
Category
(
alias: Category, type: esriFieldTypeInteger
, Coded Values:
[0: Unknown]
, [1: Primary]
, [2: Overview]
, ...6 more...
)
-
Tag
(
length: 20, alias: Tag, type: esriFieldTypeString
)
-
GroupName
(
length: 50, alias: GroupName, type: esriFieldTypeString
)
-
ProductName
(
length: 50, alias: ProductName, type: esriFieldTypeString
)
-
CenterX
(
alias: CenterX, type: esriFieldTypeDouble
)
-
CenterY
(
alias: CenterY, type: esriFieldTypeDouble
)
-
ZOrder
(
alias: ZOrder, type: esriFieldTypeInteger
)
-
Shape_Length
(
alias: Shape_Length, type: esriFieldTypeDouble
)
-
Shape_Area
(
alias: Shape_Area, type: esriFieldTypeDouble
)
-
SOrder
(
alias: SOrder, type: esriFieldTypeInteger
)
-
SLevelPS
(
alias: SLevelPS, type: esriFieldTypeDouble
)
-
StartYear
(
length: 8, alias: StartYear, type: esriFieldTypeDate
)
-
EndYear
(
length: 8, alias: EndYear, type: esriFieldTypeDate
)
Default Mosaic Method: Seamline
Allowed Mosaic Methods: Seamline,ByAttribute,None
SortField:
SortValue: N/A
Mosaic Operator: Blend
Default Compression Quality: 75
Default Resampling Method: Bilinear
Max Record Count: 1000
Max Image Height: 4100
Max Image Width: 15000
Max Download Image Count: 20
Max Mosaic Image Count: 50
Allow Raster Function: true
Allow Copy: true
Allow Analysis: true
Allow Compute TiePoints: false
Supports Statistics: true
Supports Advanced Queries: true
Use StandardizedQueries: true
Raster Type Infos:
Name: Raster Dataset
Description: Supports all ArcGIS Raster Datasets
Help:
Has Raster Attribute Table: false
Edit Fields Info: N/A
Ownership Based AccessControl For Rasters: N/A
Child Resources:
Info
Statistics
Key Properties
Legend
Raster Function Infos
Supported Operations:
Export Image
Query
Identify
Measure
Compute Histograms
Compute Statistics Histograms
Get Samples
Compute Class Statistics
Query GPS Info
Find Images
Image to Map
Map to Image
Measure from Image
Image to Map Multiray
Query Boundary
Compute Pixel Location
Compute Angles
Validate
Project