{
 "extent": {
  "ymin": 219890.34645669407,
  "xmin": 4244465.6079396307,
  "ymax": 313785.34645669407,
  "xmax": 4348280.6079396307,
  "spatialReference": {
   "latestVcsWkid": 6360,
   "latestWkid": 6561,
   "wkid": 103138,
   "vcsWkid": 105703
  }
 },
 "blockWidth": 2048,
 "mosaicOperator": "Blend",
 "serviceSourceType": "esriImageServiceSourceTypeMosaicDataset",
 "hasMultidimensions": false,
 "maxImageWidth": 15000,
 "maxRecordCount": 1000,
 "meanValues": [
  133.3022720326862,
  168.73815729958585,
  104.58131736331741
 ],
 "hasColormap": false,
 "compressionType": "None",
 "defaultCompressionQuality": 75,
 "maxValues": [
  255,
  255,
  254
 ],
 "hasHistograms": true,
 "datasetFormat": "AMD",
 "maxImageHeight": 4100,
 "sortField": "",
 "bandNames": [
  "Band_1",
  "Band_2",
  "Band_3"
 ],
 "spatialReference": {
  "latestVcsWkid": 6360,
  "latestWkid": 6561,
  "wkid": 103138,
  "vcsWkid": 105703
 },
 "fullExtent": {
  "ymin": 219890.34645669407,
  "xmin": 4244465.6079396307,
  "ymax": 313785.34645669407,
  "xmax": 4348280.6079396307,
  "spatialReference": {
   "latestVcsWkid": 6360,
   "latestWkid": 6561,
   "wkid": 103138,
   "vcsWkid": 105703
  }
 },
 "bandCount": 3,
 "rasterFunctionInfos": [
  {
   "help": "",
   "name": "None",
   "description": "Make a Raster or Raster Dataset into a Function Raster Dataset."
  }
 ],
 "supportsStatistics": true,
 "sortableFields": "ZOrder",
 "minValues": [
  0,
  0,
  0
 ],
 "allowRasterFunction": true,
 "allowComputeTiePoints": false,
 "serviceDataType": "esriImageServiceDataTypeProcessed",
 "supportsAdvancedQueries": true,
 "maxDownloadSizeLimit": 0,
 "currentVersion": 12.1,
 "heightModelInfo": {
  "vertCRS": "NAVD_1988_Foot_US",
  "heightModel": "gravity_related_height",
  "heightUnit": "us-foot"
 },
 "sortValue": null,
 "objectIdField": "OBJECTID",
 "blockHeight": 256,
 "initialExtent": {
  "ymin": 219890.34645669407,
  "xmin": 4244465.6079396307,
  "ymax": 313785.34645669407,
  "xmax": 4348280.6079396307,
  "spatialReference": {
   "latestVcsWkid": 6360,
   "latestWkid": 6561,
   "wkid": 103138,
   "vcsWkid": 105703
  }
 },
 "pixelSizeX": 5,
 "pixelSizeY": 5,
 "defaultMosaicMethod": "Northwest",
 "name": "LiDAR/MD_LiDAR_OLC_NAD83SP2011_ShadedRelief",
 "allowedMosaicMethods": "NorthWest,Center,LockRaster,ByAttribute,Nadir,Viewpoint,Seamline,None",
 "maxDownloadImageCount": 0,
 "fields": [
  {
   "domain": null,
   "name": "OBJECTID",
   "alias": "OBJECTID",
   "type": "esriFieldTypeOID"
  },
  {
   "domain": null,
   "name": "Shape",
   "alias": "Shape",
   "type": "esriFieldTypeGeometry"
  },
  {
   "domain": null,
   "name": "Name",
   "length": 200,
   "alias": "Name",
   "type": "esriFieldTypeString"
  },
  {
   "domain": {
    "splitPolicy": "esriSPTDefaultValue",
    "name": "MosaicCatalogItemCategoryDomain",
    "description": "Catalog item categories.",
    "type": "codedValue",
    "codedValues": [
     {
      "code": 0,
      "name": "Unknown"
     },
     {
      "code": 1,
      "name": "Primary"
     },
     {
      "code": 2,
      "name": "Overview"
     },
     {
      "code": 3,
      "name": "Unprocessed Overview"
     },
     {
      "code": 4,
      "name": "Partial Overview"
     },
     {
      "code": 253,
      "name": "Uploaded"
     },
     {
      "code": 254,
      "name": "Incomplete"
     },
     {
      "code": 255,
      "name": "Custom"
     }
    ],
    "mergePolicy": "esriMPTDefaultValue"
   },
   "name": "Category",
   "alias": "Category",
   "type": "esriFieldTypeInteger"
  },
  {
   "domain": null,
   "name": "Tag",
   "length": 100,
   "alias": "Tag",
   "type": "esriFieldTypeString"
  },
  {
   "domain": null,
   "name": "GroupName",
   "length": 100,
   "alias": "GroupName",
   "type": "esriFieldTypeString"
  },
  {
   "domain": null,
   "name": "ProductName",
   "length": 100,
   "alias": "ProductName",
   "type": "esriFieldTypeString"
  },
  {
   "domain": null,
   "name": "ZOrder",
   "alias": "ZOrder",
   "type": "esriFieldTypeInteger"
  }
 ],
 "allowAnalysis": true,
 "hasRasterAttributeTable": false,
 "useStandardizedQueries": true,
 "description": "",
 "pixelType": "U8",
 "meanPixelSize": 1.524,
 "exportTilesAllowed": false,
 "editFieldsInfo": null,
 "rasterTypeInfos": [
  {
   "help": "",
   "name": "Raster Dataset",
   "description": "Supports all ArcGIS Raster Datasets"
  }
 ],
 "defaultResamplingMethod": "Bilinear",
 "itemAccess": false,
 "minScale": 0,
 "serviceProperties": "NorthWest<\/MosaicMethod>Blend<\/MosaicOperator>true<\/SortAscending><\/LockImageID>ZOrder<\/TileOrderField>0<\/TileOrderBase>600.000000<\/AvgImageSpacingX>300.000000<\/AvgImageSpacingY>0.0<\/ViewPointX>0.0<\/ViewPointY>0.0<\/ViewPointDefShiftX>0.0<\/ViewPointDefShiftY>None<\/CompressionMethod>75<\/CompressionQuality>0.010000<\/CompressionTolerance>Bilinear<\/SamplingMethod><\/ImageServiceProperties><\/ImageServer>",
 "advancedQueryCapabilities": {
  "supportsStatistics": true,
  "supportsSqlExpression": true,
  "supportsOrderBy": true,
  "useStandardizedQueries": true,
  "supportsPagination": true,
  "supportsDistinct": true
 },
 "serviceItemId": "f4246d5dc49f4ab489f8d033aaf31727",
 "capabilities": "Catalog,Mensuration,Image,Metadata",
 "maxScale": 0,
 "stdvValues": [
  44.77125021152888,
  39.900547571572631,
  47.875955073998021
 ],
 "allowedFields": "Name,Tag,GroupName,ProductName,ZOrder",
 "minPixelSize": 0,
 "resampling": false,
 "sortAscending": true,
 "maxMosaicImageCount": 44,
 "inspectionCapabilities": "",
 "maxPixelSize": 0,
 "allowedCompressions": "None,JPEG,LZ77,LERC",
 "uncompressedSize": 1169725131,
 "serviceDescription": "LiDAR/MD_LiDAR_OLC_NAD83SP2011_ShadedRelief",
 "allowCopy": true,
 "copyrightText": "",
 "mensurationCapabilities": "NONE",
 "ownershipBasedAccessControlForRasters": null
}
