{
 "extent": {
  "ymin": 231706.55132644222,
  "xmin": 4263109.605719219,
  "ymax": 276172.15673896641,
  "xmax": 4296350.3242357261,
  "spatialReference": {
   "latestWkid": 2914,
   "wkid": 2914
  }
 },
 "blockWidth": 2048,
 "mosaicOperator": "Blend",
 "serviceSourceType": "esriImageServiceSourceTypeMosaicDataset",
 "hasMultidimensions": false,
 "maxImageWidth": 15000,
 "maxRecordCount": 1000,
 "meanValues": [
  98.083968222508091,
  98.083968222508091,
  98.083968222508091
 ],
 "hasColormap": false,
 "compressionType": "None",
 "defaultCompressionQuality": 75,
 "maxValues": [
  255,
  255,
  255
 ],
 "hasHistograms": true,
 "datasetFormat": "AMD",
 "maxImageHeight": 4100,
 "sortField": "",
 "bandNames": [
  "Band_1",
  "Band_2",
  "Band_3"
 ],
 "spatialReference": {
  "latestWkid": 2914,
  "wkid": 2914
 },
 "fullExtent": {
  "ymin": 231706.55132644222,
  "xmin": 4263109.605719219,
  "ymax": 276172.15673896641,
  "xmax": 4296350.3242357261,
  "spatialReference": {
   "latestWkid": 2914,
   "wkid": 2914
  }
 },
 "bandCount": 3,
 "rasterFunctionInfos": [
  {
   "help": "",
   "name": "None",
   "description": "Make a Raster or Raster Dataset into a Function Raster Dataset."
  }
 ],
 "supportsStatistics": true,
 "sortableFields": "MinPS,MaxPS,LowPS,HighPS,CenterX,CenterY,ZOrder,Shape_Length,Shape_Area,SOrder,SLevelPS",
 "minValues": [
  23,
  23,
  23
 ],
 "allowRasterFunction": true,
 "allowComputeTiePoints": false,
 "serviceDataType": "esriImageServiceDataTypeRGB",
 "supportsAdvancedQueries": true,
 "maxDownloadSizeLimit": 2048,
 "currentVersion": 12.1,
 "sortValue": null,
 "objectIdField": "OBJECTID",
 "blockHeight": 256,
 "initialExtent": {
  "ymin": 231706.55132644222,
  "xmin": 4263109.605719219,
  "ymax": 276172.15673896641,
  "xmax": 4296350.3242357261,
  "spatialReference": {
   "latestWkid": 2914,
   "wkid": 2914
  }
 },
 "pixelSizeX": 0.74817615783625979,
 "pixelSizeY": 0.74817615783625313,
 "defaultMosaicMethod": "Seamline",
 "name": "Aerials/MDS_Aerials_1956_SP_HARN_WKID2914",
 "allowedMosaicMethods": "Seamline,NorthWest,Center,LockRaster,ByAttribute,Nadir,Viewpoint,None",
 "maxDownloadImageCount": 20,
 "fields": [
  {
   "domain": null,
   "name": "OBJECTID",
   "alias": "OBJECTID",
   "type": "esriFieldTypeOID"
  },
  {
   "domain": null,
   "name": "Shape",
   "alias": "Shape",
   "type": "esriFieldTypeGeometry"
  },
  {
   "domain": null,
   "name": "Name",
   "length": 200,
   "alias": "Name",
   "type": "esriFieldTypeString"
  },
  {
   "domain": null,
   "name": "MinPS",
   "alias": "MinPS",
   "type": "esriFieldTypeDouble"
  },
  {
   "domain": null,
   "name": "MaxPS",
   "alias": "MaxPS",
   "type": "esriFieldTypeDouble"
  },
  {
   "domain": null,
   "name": "LowPS",
   "alias": "LowPS",
   "type": "esriFieldTypeDouble"
  },
  {
   "domain": null,
   "name": "HighPS",
   "alias": "HighPS",
   "type": "esriFieldTypeDouble"
  },
  {
   "domain": {
    "splitPolicy": "esriSPTDefaultValue",
    "name": "MosaicCatalogItemCategoryDomain",
    "description": "Catalog item categories.",
    "type": "codedValue",
    "codedValues": [
     {
      "code": 0,
      "name": "Unknown"
     },
     {
      "code": 1,
      "name": "Primary"
     },
     {
      "code": 2,
      "name": "Overview"
     },
     {
      "code": 3,
      "name": "Unprocessed Overview"
     },
     {
      "code": 4,
      "name": "Partial Overview"
     },
     {
      "code": 5,
      "name": "Inactive"
     },
     {
      "code": 253,
      "name": "Uploaded"
     },
     {
      "code": 254,
      "name": "Incomplete"
     },
     {
      "code": 255,
      "name": "Custom"
     }
    ],
    "mergePolicy": "esriMPTDefaultValue"
   },
   "name": "Category",
   "alias": "Category",
   "type": "esriFieldTypeInteger"
  },
  {
   "domain": null,
   "name": "Tag",
   "length": 100,
   "alias": "Tag",
   "type": "esriFieldTypeString"
  },
  {
   "domain": null,
   "name": "GroupName",
   "length": 100,
   "alias": "GroupName",
   "type": "esriFieldTypeString"
  },
  {
   "domain": null,
   "name": "ProductName",
   "length": 100,
   "alias": "ProductName",
   "type": "esriFieldTypeString"
  },
  {
   "domain": null,
   "name": "CenterX",
   "alias": "CenterX",
   "type": "esriFieldTypeDouble"
  },
  {
   "domain": null,
   "name": "CenterY",
   "alias": "CenterY",
   "type": "esriFieldTypeDouble"
  },
  {
   "domain": null,
   "name": "ZOrder",
   "alias": "ZOrder",
   "type": "esriFieldTypeInteger"
  },
  {
   "domain": null,
   "name": "Shape_Length",
   "alias": "Shape_Length",
   "type": "esriFieldTypeDouble"
  },
  {
   "domain": null,
   "name": "Shape_Area",
   "alias": "Shape_Area",
   "type": "esriFieldTypeDouble"
  },
  {
   "domain": null,
   "name": "SOrder",
   "alias": "SOrder",
   "type": "esriFieldTypeInteger"
  },
  {
   "domain": null,
   "name": "SLevelPS",
   "alias": "SLevelPS",
   "type": "esriFieldTypeDouble"
  }
 ],
 "allowAnalysis": true,
 "hasRasterAttributeTable": false,
 "useStandardizedQueries": true,
 "description": "",
 "pixelType": "U8",
 "meanPixelSize": 0.22804409290849098,
 "exportTilesAllowed": false,
 "editFieldsInfo": null,
 "rasterTypeInfos": [
  {
   "help": "",
   "name": "Raster Dataset",
   "description": "Supports all ArcGIS Raster Datasets"
  }
 ],
 "defaultResamplingMethod": "Bilinear",
 "itemAccess": false,
 "minScale": 0,
 "serviceProperties": "Seamline<\/MosaicMethod>Blend<\/MosaicOperator>true<\/SortAscending><\/LockImageID>MinPS<\/TileOrderField>0<\/TileOrderBase>600.000000<\/AvgImageSpacingX>300.000000<\/AvgImageSpacingY>0.0<\/ViewPointX>0.0<\/ViewPointY>0.0<\/ViewPointDefShiftX>0.0<\/ViewPointDefShiftY>None<\/CompressionMethod>75<\/CompressionQuality>0.010000<\/CompressionTolerance>Bilinear<\/SamplingMethod><\/ImageServiceProperties><\/ImageServer>",
 "advancedQueryCapabilities": {
  "supportsStatistics": true,
  "supportsSqlExpression": true,
  "supportsOrderBy": true,
  "useStandardizedQueries": true,
  "supportsPagination": true,
  "supportsDistinct": true
 },
 "serviceItemId": "0ce487840e2f41b2b25e42094939c8f7",
 "capabilities": "Image,Metadata,Mensuration,Catalog",
 "maxScale": 0,
 "stdvValues": [
  23.927549136794756,
  23.927549136794756,
  23.927549136794756
 ],
 "allowedFields": "Name,MinPS,MaxPS,LowPS,HighPS,Tag,GroupName,ProductName,CenterX,CenterY,ZOrder,Shape_Length,Shape_Area,SOrder,SLevelPS",
 "minPixelSize": 0,
 "sortAscending": true,
 "maxMosaicImageCount": 50,
 "inspectionCapabilities": "",
 "maxPixelSize": 0,
 "allowedCompressions": "None,JPEG,LZ77,LERC",
 "uncompressedSize": 7921512984,
 "serviceDescription": "Aerials/MDS_Aerials_1956_SP_HARN_WKID2914",
 "allowCopy": true,
 "copyrightText": "",
 "mensurationCapabilities": "NONE",
 "ownershipBasedAccessControlForRasters": null
}
